
BEGIN:VCALENDAR
VERSION:2.0
PRODID:-//eventon.com NONSGML v1.0//EN
BEGIN:VEVENT
UID:69e6342ad9f7d
DTSTAMP:20260420T091154
DTSTART:20240719T164500Z
DTEND:20240719T180000Z
LOCATION:
SUMMARY:Weekly Friday - Jumu'ah Prayer's at MASOM
DESCRIPTION: Weekly Friday - Jumu'ah Prayer's at MASOM
END:VEVENT
END:VCALENDAR