
BEGIN:VCALENDAR
VERSION:2.0
PRODID:-//eventon.com NONSGML v1.0//EN
BEGIN:VEVENT
UID:69e899e1229ca
DTSTAMP:20260422T045025
DTSTART:20240816T164500Z
DTEND:20240816T180000Z
LOCATION:
SUMMARY:Weekly Friday - Jumu'ah Prayer's at MASOM
DESCRIPTION: Weekly Friday - Jumu'ah Prayer's at MASOM
END:VEVENT
END:VCALENDAR