
BEGIN:VCALENDAR
VERSION:2.0
PRODID:-//eventon.com NONSGML v1.0//EN
BEGIN:VEVENT
UID:69ec9479d02f3
DTSTAMP:20260425T051625
DTSTART:20240823T164500Z
DTEND:20240823T180000Z
LOCATION:
SUMMARY:Weekly Friday - Jumu'ah Prayer's at MASOM
DESCRIPTION: Weekly Friday - Jumu'ah Prayer's at MASOM
END:VEVENT
END:VCALENDAR