
BEGIN:VCALENDAR
VERSION:2.0
PRODID:-//eventon.com NONSGML v1.0//EN
BEGIN:VEVENT
UID:69e4e56fea938
DTSTAMP:20260419T092343
DTSTART:20250627T164500Z
DTEND:20250627T180000Z
LOCATION:
SUMMARY:Weekly Friday - Jumu'ah Prayer's at MASOM
DESCRIPTION: Weekly Friday - Jumu'ah Prayer's at MASOM
END:VEVENT
END:VCALENDAR