
BEGIN:VCALENDAR
VERSION:2.0
PRODID:-//eventon.com NONSGML v1.0//EN
BEGIN:VEVENT
UID:69eb22fedb9b8
DTSTAMP:20260424T025958
DTSTART:20220303T230000Z
DTEND:20220304T035000Z
LOCATION:
SUMMARY:Weekly Thursday Program
DESCRIPTION: Weekly Thursday Program
END:VEVENT
END:VCALENDAR