
BEGIN:VCALENDAR
VERSION:2.0
PRODID:-//eventon.com NONSGML v1.0//EN
BEGIN:VEVENT
UID:69ea35d431b36
DTSTAMP:20260423T100804
DTSTART:20220317T230000Z
DTEND:20220318T035000Z
LOCATION:
SUMMARY:Weekly Thursday Program
DESCRIPTION: Weekly Thursday Program
END:VEVENT
END:VCALENDAR