
BEGIN:VCALENDAR
VERSION:2.0
PRODID:-//eventon.com NONSGML v1.0//EN
BEGIN:VEVENT
UID:69e9d3b05439e
DTSTAMP:20260423T030920
DTSTART:20220106T230000Z
DTEND:20220107T035000Z
LOCATION:
SUMMARY:Weekly Thursday Program
DESCRIPTION: Weekly Thursday Program
END:VEVENT
END:VCALENDAR