
BEGIN:VCALENDAR
VERSION:2.0
PRODID:-//eventon.com NONSGML v1.0//EN
BEGIN:VEVENT
UID:69e897c0d2d2c
DTSTAMP:20260422T044120
DTSTART:20230914T230000Z
DTEND:20230915T035000Z
LOCATION:
SUMMARY:Weekly Thursday Program
DESCRIPTION: Weekly Thursday Program
END:VEVENT
END:VCALENDAR