
BEGIN:VCALENDAR
VERSION:2.0
PRODID:-//eventon.com NONSGML v1.0//EN
BEGIN:VEVENT
UID:69e8f61c903d7
DTSTAMP:20260422T112356
DTSTART:20230928T230000Z
DTEND:20230929T035000Z
LOCATION:
SUMMARY:Weekly Thursday Program
DESCRIPTION: Weekly Thursday Program
END:VEVENT
END:VCALENDAR