
BEGIN:VCALENDAR
VERSION:2.0
PRODID:-//eventon.com NONSGML v1.0//EN
BEGIN:VEVENT
UID:69e84d955071e
DTSTAMP:20260421T232453
DTSTART:20220812T011500Z
DTEND:20220812T030000Z
LOCATION:
SUMMARY:Majalis e Ayyam e Aza
DESCRIPTION: Majalis e Ayyam e Aza
END:VEVENT
END:VCALENDAR