
BEGIN:VCALENDAR
VERSION:2.0
PRODID:-//eventon.com NONSGML v1.0//EN
BEGIN:VEVENT
UID:69e862ec0f6c7
DTSTAMP:20260422T005556
DTSTART:20220813T011500Z
DTEND:20220813T030000Z
LOCATION:
SUMMARY:Majalis e Ayyam e Aza
DESCRIPTION: Majalis e Ayyam e Aza
END:VEVENT
END:VCALENDAR