
BEGIN:VCALENDAR
VERSION:2.0
PRODID:-//eventon.com NONSGML v1.0//EN
BEGIN:VEVENT
UID:69e877b0366ea
DTSTAMP:20260422T022432
DTSTART:20220814T011500Z
DTEND:20220814T030000Z
LOCATION:
SUMMARY:Majalis e Ayyam e Aza (Copy) (Copy)
DESCRIPTION: Majalis e Ayyam e Aza (Copy) (Copy)
END:VEVENT
END:VCALENDAR