
BEGIN:VCALENDAR
VERSION:2.0
PRODID:-//eventon.com NONSGML v1.0//EN
BEGIN:VEVENT
UID:69ed154055d5f
DTSTAMP:20260425T142552
DTSTART:20250228T010000Z
DTEND:20250228T030000Z
LOCATION:
SUMMARY:Majlis-e-Eisal-e-Sawab of Marhoom Mohammad Sohail and Barsi of Marhooma Siddika Bano on Feb 27th\,  2025 at 7:00 PM
DESCRIPTION: Majlis-e-Eisal-e-Sawab of Marhoom Mohammad Sohail and Barsi of Marhooma Siddika Bano on Feb 27th\,  2025 at 7:00 PM
END:VEVENT
END:VCALENDAR