
BEGIN:VCALENDAR
VERSION:2.0
PRODID:-//eventon.com NONSGML v1.0//EN
BEGIN:VEVENT
UID:69ed01c31760c
DTSTAMP:20260425T130243
DTSTART:20250228T190000Z
DTEND:20250301T020000Z
LOCATION:
SUMMARY:Cleaning day and Istaqbal-e-Mah-e-Ramadan Program at MASOM on Friday\,  Febuary 28\,  2025
DESCRIPTION: Cleaning day and Istaqbal-e-Mah-e-Ramadan Program at MASOM on Friday\,  Febuary 28\,  2025
END:VEVENT
END:VCALENDAR